BEGIN:VCALENDAR
VERSION:2.0
PRODID:-//The Howard County Fair - ECPv6.15.15//NONSGML v1.0//EN
CALSCALE:GREGORIAN
METHOD:PUBLISH
X-WR-CALNAME:The Howard County Fair
X-ORIGINAL-URL:https://howardcountyfairmd.com
X-WR-CALDESC:Events for The Howard County Fair
REFRESH-INTERVAL;VALUE=DURATION:PT1H
X-Robots-Tag:noindex
X-PUBLISHED-TTL:PT1H
BEGIN:VTIMEZONE
TZID:America/New_York
BEGIN:DAYLIGHT
TZOFFSETFROM:-0500
TZOFFSETTO:-0400
TZNAME:EDT
DTSTART:20250309T070000
END:DAYLIGHT
BEGIN:STANDARD
TZOFFSETFROM:-0400
TZOFFSETTO:-0500
TZNAME:EST
DTSTART:20251102T060000
END:STANDARD
BEGIN:DAYLIGHT
TZOFFSETFROM:-0500
TZOFFSETTO:-0400
TZNAME:EDT
DTSTART:20260308T070000
END:DAYLIGHT
BEGIN:STANDARD
TZOFFSETFROM:-0400
TZOFFSETTO:-0500
TZNAME:EST
DTSTART:20261101T060000
END:STANDARD
BEGIN:DAYLIGHT
TZOFFSETFROM:-0500
TZOFFSETTO:-0400
TZNAME:EDT
DTSTART:20270314T070000
END:DAYLIGHT
BEGIN:STANDARD
TZOFFSETFROM:-0400
TZOFFSETTO:-0500
TZNAME:EST
DTSTART:20271107T060000
END:STANDARD
END:VTIMEZONE
BEGIN:VEVENT
DTSTART;VALUE=DATE:20260411
DTEND;VALUE=DATE:20260412
DTSTAMP:20260423T172151
CREATED:20260327T194341Z
LAST-MODIFIED:20260327T194341Z
UID:10000277-1775865600-1775951999@howardcountyfairmd.com
SUMMARY:Baltimore & Howard Co. Rabbit & Cavy Breeders Association
DESCRIPTION:Baltimore & Howard Rabbit & Cavy Breeders Association of Maryland is a local all breed rabbit and cavy club!
URL:https://howardcountyfairmd.com/event/baltimore-howard-co-rabbit-cavy-breeders-association/
LOCATION:Howard County Fairgrounds\, 2210 Fairgrounds Road\, West Friendship\, MD\, 21794\, United States
ORGANIZER;CN="Baltimore & Howard Co. Rabbit & Cavy Breeders Association":MAILTO:http://www.wendyf1980@verizon.net
END:VEVENT
END:VCALENDAR