BEGIN:VCALENDAR
VERSION:2.0
PRODID:-//The Howard County Fair - ECPv6.15.15//NONSGML v1.0//EN
CALSCALE:GREGORIAN
METHOD:PUBLISH
X-WR-CALNAME:The Howard County Fair
X-ORIGINAL-URL:https://howardcountyfairmd.com
X-WR-CALDESC:Events for The Howard County Fair
REFRESH-INTERVAL;VALUE=DURATION:PT1H
X-Robots-Tag:noindex
X-PUBLISHED-TTL:PT1H
BEGIN:VTIMEZONE
TZID:America/Halifax
BEGIN:DAYLIGHT
TZOFFSETFROM:-0400
TZOFFSETTO:-0300
TZNAME:ADT
DTSTART:20240310T060000
END:DAYLIGHT
BEGIN:STANDARD
TZOFFSETFROM:-0300
TZOFFSETTO:-0400
TZNAME:AST
DTSTART:20241103T050000
END:STANDARD
BEGIN:DAYLIGHT
TZOFFSETFROM:-0400
TZOFFSETTO:-0300
TZNAME:ADT
DTSTART:20250309T060000
END:DAYLIGHT
BEGIN:STANDARD
TZOFFSETFROM:-0300
TZOFFSETTO:-0400
TZNAME:AST
DTSTART:20251102T050000
END:STANDARD
BEGIN:DAYLIGHT
TZOFFSETFROM:-0400
TZOFFSETTO:-0300
TZNAME:ADT
DTSTART:20260308T060000
END:DAYLIGHT
BEGIN:STANDARD
TZOFFSETFROM:-0300
TZOFFSETTO:-0400
TZNAME:AST
DTSTART:20261101T050000
END:STANDARD
END:VTIMEZONE
BEGIN:VEVENT
DTSTART;TZID=America/Halifax:20250712T090000
DTEND;TZID=America/Halifax:20250713T160000
DTSTAMP:20260421T064713
CREATED:20230710T220758Z
LAST-MODIFIED:20250208T141606Z
UID:10000044-1752310800-1752422400@howardcountyfairmd.com
SUMMARY:Christmas In July
DESCRIPTION:Over 100 vendors\, Christmas crafts of all kinds! Music\, fun\, food. Santa will be here! Check out our Facebook page for more information.
URL:https://howardcountyfairmd.com/event/christmas-in-july/
LOCATION:Howard County Fairgrounds\, 2210 Fairgrounds Road\, West Friendship\, MD\, 21794\, United States
ORGANIZER;CN="Christmas in July":MAILTO:https://www.christmasinjulymd@gmail.com
END:VEVENT
END:VCALENDAR