BEGIN:VCALENDAR
VERSION:2.0
PRODID:-//The Howard County Fair - ECPv6.15.15//NONSGML v1.0//EN
CALSCALE:GREGORIAN
METHOD:PUBLISH
X-WR-CALNAME:The Howard County Fair
X-ORIGINAL-URL:https://howardcountyfairmd.com
X-WR-CALDESC:Events for The Howard County Fair
REFRESH-INTERVAL;VALUE=DURATION:PT1H
X-Robots-Tag:noindex
X-PUBLISHED-TTL:PT1H
BEGIN:VTIMEZONE
TZID:America/New_York
BEGIN:DAYLIGHT
TZOFFSETFROM:-0500
TZOFFSETTO:-0400
TZNAME:EDT
DTSTART:20240310T070000
END:DAYLIGHT
BEGIN:STANDARD
TZOFFSETFROM:-0400
TZOFFSETTO:-0500
TZNAME:EST
DTSTART:20241103T060000
END:STANDARD
BEGIN:DAYLIGHT
TZOFFSETFROM:-0500
TZOFFSETTO:-0400
TZNAME:EDT
DTSTART:20250309T070000
END:DAYLIGHT
BEGIN:STANDARD
TZOFFSETFROM:-0400
TZOFFSETTO:-0500
TZNAME:EST
DTSTART:20251102T060000
END:STANDARD
BEGIN:DAYLIGHT
TZOFFSETFROM:-0500
TZOFFSETTO:-0400
TZNAME:EDT
DTSTART:20260308T070000
END:DAYLIGHT
BEGIN:STANDARD
TZOFFSETFROM:-0400
TZOFFSETTO:-0500
TZNAME:EST
DTSTART:20261101T060000
END:STANDARD
END:VTIMEZONE
BEGIN:VEVENT
DTSTART;VALUE=DATE:20251220
DTEND;VALUE=DATE:20251221
DTSTAMP:20260423T173118
CREATED:20251112T124743Z
LAST-MODIFIED:20251112T124743Z
UID:10000181-1766188800-1766275199@howardcountyfairmd.com
SUMMARY:Howard County Pride\, Winter Wonderland Ball
DESCRIPTION:Winter Wonderland Ball – a themed event featuring food\, drinks\, awards\, entertainment\, raffles & speakers.
URL:https://howardcountyfairmd.com/event/howard-county-pride-winter-wonderland-ball/
LOCATION:Howard County Fairgrounds\, 2210 Fairgrounds Road\, West Friendship\, MD\, 21794\, United States
ORGANIZER;CN="Howard County Pride":MAILTO:https://www.mikie@howardcountpride.org
END:VEVENT
END:VCALENDAR