BEGIN:VCALENDAR
VERSION:2.0
PRODID:-//The Howard County Fair - ECPv6.15.15//NONSGML v1.0//EN
CALSCALE:GREGORIAN
METHOD:PUBLISH
X-WR-CALNAME:The Howard County Fair
X-ORIGINAL-URL:https://howardcountyfairmd.com
X-WR-CALDESC:Events for The Howard County Fair
REFRESH-INTERVAL;VALUE=DURATION:PT1H
X-Robots-Tag:noindex
X-PUBLISHED-TTL:PT1H
BEGIN:VTIMEZONE
TZID:America/Halifax
BEGIN:DAYLIGHT
TZOFFSETFROM:-0400
TZOFFSETTO:-0300
TZNAME:ADT
DTSTART:20250309T060000
END:DAYLIGHT
BEGIN:STANDARD
TZOFFSETFROM:-0300
TZOFFSETTO:-0400
TZNAME:AST
DTSTART:20251102T050000
END:STANDARD
BEGIN:DAYLIGHT
TZOFFSETFROM:-0400
TZOFFSETTO:-0300
TZNAME:ADT
DTSTART:20260308T060000
END:DAYLIGHT
BEGIN:STANDARD
TZOFFSETFROM:-0300
TZOFFSETTO:-0400
TZNAME:AST
DTSTART:20261101T050000
END:STANDARD
BEGIN:DAYLIGHT
TZOFFSETFROM:-0400
TZOFFSETTO:-0300
TZNAME:ADT
DTSTART:20270314T060000
END:DAYLIGHT
BEGIN:STANDARD
TZOFFSETFROM:-0300
TZOFFSETTO:-0400
TZNAME:AST
DTSTART:20271107T050000
END:STANDARD
END:VTIMEZONE
BEGIN:VEVENT
DTSTART;TZID=America/Halifax:20260718T100000
DTEND;TZID=America/Halifax:20260718T183000
DTSTAMP:20260421T182036
CREATED:20230612T231753Z
LAST-MODIFIED:20260409T131619Z
UID:10000042-1784368800-1784399400@howardcountyfairmd.com
SUMMARY:Whispering Winds American Indian Pow Wow
DESCRIPTION:Annual Whispering Winds Pow-Wow and show. The pow-wow is an opportunity for the public to interact with American Indian dancers\, singers\, drummers\, artists and crafts persons.  Also\, this event is an attempt by Pow-Wow to educate the public about American Indians\, past and present\, through the arts.  Fun activities for children and adults include dance interaction and face painting\, (birds of prey\, petting zoo and pony rides\, weather permitting)\, canvas painting\, beadwork and dreamcatcher making. Members of the Haliwa-Saponi\, Piscataway\, Rappahannock\, Cherokee\, Sioux\, Iroquois\, Lumbee\, and Navajo are a few of the Tribes that will participate this year. Some of the finest Native American crafts will be available.  Items for sale include fine art turquoise jewelry\, moccasins\, beadwork\, rugs\, books\, paintings\, and more. Buffalo stew\, Indian fry bread\, Indian tacos\, Indian corn soup\, and buffalo burgers are just a few of the Native American food items that will be on sale at the event. American fare\, such as hot dogs\, hamburgers will be sold as well. $15 Adults\, $8 for children. Visit POWWOWS.com
URL:https://howardcountyfairmd.com/event/the-pow-wow/
LOCATION:Howard County Fairgrounds\, 2210 Fairgrounds Road\, West Friendship\, MD\, 21794\, United States
ORGANIZER;CN="Native American Pow-Wow":MAILTO:powwow@vance.net
END:VEVENT
BEGIN:VEVENT
DTSTART;TZID=America/Halifax:20260719T100000
DTEND;TZID=America/Halifax:20260719T180000
DTSTAMP:20260421T182036
CREATED:20260409T131815Z
LAST-MODIFIED:20260409T131815Z
UID:10000284-1784455200-1784484000@howardcountyfairmd.com
SUMMARY:Whispering Winds American Indian Pow Wow
DESCRIPTION:Annual Whispering Winds Pow-Wow and show. The pow-wow is an opportunity for the public to interact with American Indian dancers\, singers\, drummers\, artists and crafts persons.  Also\, this event is an attempt by Pow-Wow to educate the public about American Indians\, past and present\, through the arts.  Fun activities for children and adults include dance interaction and face painting\, (birds of prey\, petting zoo and pony rides\, weather permitting)\, canvas painting\, beadwork and dreamcatcher making. Members of the Haliwa-Saponi\, Piscataway\, Rappahannock\, Cherokee\, Sioux\, Iroquois\, Lumbee\, and Navajo are a few of the Tribes that will participate this year. Some of the finest Native American crafts will be available.  Items for sale include fine art turquoise jewelry\, moccasins\, beadwork\, rugs\, books\, paintings\, and more. Buffalo stew\, Indian fry bread\, Indian tacos\, Indian corn soup\, and buffalo burgers are just a few of the Native American food items that will be on sale at the event. American fare\, such as hot dogs\, hamburgers will be sold as well. $15 Adults\, $8 for children. Visit POWWOWS.com
URL:https://howardcountyfairmd.com/event/whispering-winds-american-indian-pow-wow/
LOCATION:Howard County Fairgrounds\, 2210 Fairgrounds Road\, West Friendship\, MD\, 21794\, United States
ORGANIZER;CN="Native American Pow-Wow":MAILTO:powwow@vance.net
END:VEVENT
END:VCALENDAR