BEGIN:VCALENDAR
VERSION:2.0
PRODID:-//The Howard County Fair - ECPv6.15.15//NONSGML v1.0//EN
CALSCALE:GREGORIAN
METHOD:PUBLISH
X-ORIGINAL-URL:https://howardcountyfairmd.com
X-WR-CALDESC:Events for The Howard County Fair
REFRESH-INTERVAL;VALUE=DURATION:PT1H
X-Robots-Tag:noindex
X-PUBLISHED-TTL:PT1H
BEGIN:VTIMEZONE
TZID:America/New_York
BEGIN:DAYLIGHT
TZOFFSETFROM:-0500
TZOFFSETTO:-0400
TZNAME:EDT
DTSTART:20250309T070000
END:DAYLIGHT
BEGIN:STANDARD
TZOFFSETFROM:-0400
TZOFFSETTO:-0500
TZNAME:EST
DTSTART:20251102T060000
END:STANDARD
BEGIN:DAYLIGHT
TZOFFSETFROM:-0500
TZOFFSETTO:-0400
TZNAME:EDT
DTSTART:20260308T070000
END:DAYLIGHT
BEGIN:STANDARD
TZOFFSETFROM:-0400
TZOFFSETTO:-0500
TZNAME:EST
DTSTART:20261101T060000
END:STANDARD
BEGIN:DAYLIGHT
TZOFFSETFROM:-0500
TZOFFSETTO:-0400
TZNAME:EDT
DTSTART:20270314T070000
END:DAYLIGHT
BEGIN:STANDARD
TZOFFSETFROM:-0400
TZOFFSETTO:-0500
TZNAME:EST
DTSTART:20271107T060000
END:STANDARD
END:VTIMEZONE
BEGIN:VEVENT
DTSTART;TZID=America/New_York:20260524T070000
DTEND;TZID=America/New_York:20260524T130000
DTSTAMP:20260421T200541
CREATED:20240405T145703Z
LAST-MODIFIED:20260421T141023Z
UID:10000120-1779606000-1779627600@howardcountyfairmd.com
SUMMARY:MD FM Ham Fest
DESCRIPTION:TALK-IN on WA3DZD Repeater (146.16/146.76\, 223.16/224.76\, and 449.0/444.0) Pl 107.2 \nPlenty of good food and drink will be available.  Provided by Lions Club \nMFMA  Hamfest is An ARRL sanctioned Hamfest \nSuggested Admission Donation : $10   Tailgate – $10  per space    Table Rentals   Paid in Advance – $20 per table \nNote: Payment must be received by May 19\, 2025 \nInside Tables if available after 8:00 AM May 25\, 2025
URL:https://howardcountyfairmd.com/event/md-fm-ham-fest/
LOCATION:Howard County Fairgrounds\, 2210 Fairgrounds Road\, West Friendship\, MD\, 21794\, United States
ORGANIZER;CN="The Maryland FM Association":MAILTO:Marylandfm@verizon.net
END:VEVENT
END:VCALENDAR